BEGIN:VCALENDAR
VERSION:2.0
PRODID:-//Jacksonville Cottages - Nightly &amp; Monthly Rentals in Jacksonville, Oregon - ECPv6.15.20//NONSGML v1.0//EN
CALSCALE:GREGORIAN
METHOD:PUBLISH
X-WR-CALNAME:Jacksonville Cottages - Nightly &amp; Monthly Rentals in Jacksonville, Oregon
X-ORIGINAL-URL:https://jacksonvillecottages.com
X-WR-CALDESC:Events for Jacksonville Cottages - Nightly &amp; Monthly Rentals in Jacksonville, Oregon
REFRESH-INTERVAL;VALUE=DURATION:PT1H
X-Robots-Tag:noindex
X-PUBLISHED-TTL:PT1H
BEGIN:VTIMEZONE
TZID:America/Los_Angeles
BEGIN:DAYLIGHT
TZOFFSETFROM:-0800
TZOFFSETTO:-0700
TZNAME:PDT
DTSTART:20220313T100000
END:DAYLIGHT
BEGIN:STANDARD
TZOFFSETFROM:-0700
TZOFFSETTO:-0800
TZNAME:PST
DTSTART:20221106T090000
END:STANDARD
BEGIN:DAYLIGHT
TZOFFSETFROM:-0800
TZOFFSETTO:-0700
TZNAME:PDT
DTSTART:20230312T100000
END:DAYLIGHT
BEGIN:STANDARD
TZOFFSETFROM:-0700
TZOFFSETTO:-0800
TZNAME:PST
DTSTART:20231105T090000
END:STANDARD
BEGIN:DAYLIGHT
TZOFFSETFROM:-0800
TZOFFSETTO:-0700
TZNAME:PDT
DTSTART:20240310T100000
END:DAYLIGHT
BEGIN:STANDARD
TZOFFSETFROM:-0700
TZOFFSETTO:-0800
TZNAME:PST
DTSTART:20241103T090000
END:STANDARD
END:VTIMEZONE
BEGIN:VEVENT
DTSTART;VALUE=DATE:20230714
DTEND;VALUE=DATE:20230717
DTSTAMP:20260422T134801
CREATED:20230523T030424Z
LAST-MODIFIED:20230716T234913Z
UID:2758-1689292800-1689551999@jacksonvillecottages.com
SUMMARY:Southern Oregon Lavender Trail: Lavender Festival Weekend
DESCRIPTION:Southern Oregon Lavender Trail: Lavender Festival Weekend\n \nSummer’s Spectacular Lavender Blooms—Every June and July\, visitors are drawn to the stunning\, multi-sensory experience that our Jacksonville area lavender farms provide. The soft fragrance\, the fields of fierce violet\, along with the many colorful bumblebees and butterflies make the experience worth celebrating. But it only lasts 6 to 8 weeks\, so… you have to pay attention. \nLuckily\, the Southern Oregon Lavender Trail (southernoregonlavendertrail.com) schedules two lavender festivals to make it easy to remember when all that beauty is happening. This year’s lavender festival dates are Friday\, June 23 through Sunday\, June 25 and Friday\, July 14 through Sunday\, July 16—hours are 10am to 5pm on festival days. \nEach farm has different activities and events planned for the lavender festival days. They often include U-Cut fresh lavender bouquets\, food\, drinks\, snacks\, local artisans\, local wineries and live music. Check each farm’s social media page for the full details of what they have planned. Admission to both festivals is free and this year there are six lavender farms and nurseries participating: \n  \nApplegate River Lavender Farm \n375 Hamilton Road\, Jacksonville \n541-702-2250\, applegateriverlavender.com \n  \nDos Mariposas Vineyards & Lavender \n3976 Bellinger Ln\, Medford\, 541-224-7881 \ndosmariposasvineyards.com/lavender \nGoodwin Creek Gardens \n970 Cedar Flat Road\, Williams \n541-846-7357\, goodwincreekgardens.com \n  \nKingfisher Farm \n7717 Upper Applegate Road\, Jacksonville \n541-702-2019\, kingfisherlavenderfarm.com \n  \nLavender Ally Farm \n5734 Pleasant Creek Road\, Rogue River \n541 582-8998\, lavenderally.com \n  \nThe English Lavender Farm \n8040 Thompson Creek Rd\, Applegate \n541-846-0375\, englishlavenderfarm.com \n  \nDownload a festival map and description of each farm at southernoregonlavendertrail.com.
URL:https://jacksonvillecottages.com/event/southern-oregon-lavender-trail-lavender-festival-weekend-2/
END:VEVENT
BEGIN:VEVENT
DTSTART;TZID=America/Los_Angeles:20230716T110000
DTEND;TZID=America/Los_Angeles:20230716T130000
DTSTAMP:20260422T134801
CREATED:20230502T003419Z
LAST-MODIFIED:20230716T194911Z
UID:2661-1689505200-1689512400@jacksonvillecottages.com
SUMMARY:EdenVale Winery 'Music and Mimosas'
DESCRIPTION:‘Music and Mimosas’ – Join us every Sunday this summer for Live Music from 11:00am-1:00pm Mimosas and special plates will be available for purchase all summer for the perfect Sunday brunch!  Musician schedule available on our website. www.edenvalewines.com (541) 512-2955
URL:https://jacksonvillecottages.com/event/edenvale-winery-music-and-mimosas-9/
LOCATION:EdenVale Winery\, 2310 Voorhies Rd\, Medford\, OR 97501\, USA
END:VEVENT
BEGIN:VEVENT
DTSTART;TZID=America/Los_Angeles:20230716T110000
DTEND;TZID=America/Los_Angeles:20230716T150000
DTSTAMP:20260422T134801
CREATED:20230427T003427Z
LAST-MODIFIED:20230716T213432Z
UID:2541-1689505200-1689519600@jacksonvillecottages.com
SUMMARY:Beekman Bank “Behind the Counter” Tours
DESCRIPTION:Saturdays and Sundays\, May 27 thru September 3\, 11am-3pm – “Behind the Counter” BeekmanBank Tours.   Step behind the counterof the oldest financial institution in the Pacific Northwest\, preserved as amuseum since 1915.  The Beekman Bank\,located at 110 W. California Street in Jacksonville\, saw over $40 million ingold cross its counters during Jacksonville’s heyday in the late 1800s—theequivalent of over $1 billion today. Interact with costumed docents sharing stories of late 19thCentury banking practices\, gold shipping\, and handshake deals.  Step behind the counter and peer in drawerscontaining old checks\, stage schedules\, and paperwork.  Enter the vault that stored all thosemillions in gold!  Admission is FREE butdonations are encouraged with all monies going towards the preservation andmaintenance of this historic legacy!  Additionalinformation is available at https://www.historicjacksonville.org/behind-the-counter-tours/. \n 
URL:https://jacksonvillecottages.com/event/beekman-bank-behind-the-counter-tours-34/
LOCATION:Beekman Bank 1863\, 110 W California St\, Jacksonville\, OR 97530\, USA
END:VEVENT
END:VCALENDAR