BEGIN:VCALENDAR
VERSION:2.0
PRODID:-//Jacksonville Cottages - Nightly &amp; Monthly Rentals in Jacksonville, Oregon - ECPv6.15.20//NONSGML v1.0//EN
CALSCALE:GREGORIAN
METHOD:PUBLISH
X-WR-CALNAME:Jacksonville Cottages - Nightly &amp; Monthly Rentals in Jacksonville, Oregon
X-ORIGINAL-URL:https://jacksonvillecottages.com
X-WR-CALDESC:Events for Jacksonville Cottages - Nightly &amp; Monthly Rentals in Jacksonville, Oregon
REFRESH-INTERVAL;VALUE=DURATION:PT1H
X-Robots-Tag:noindex
X-PUBLISHED-TTL:PT1H
BEGIN:VTIMEZONE
TZID:America/Los_Angeles
BEGIN:DAYLIGHT
TZOFFSETFROM:-0800
TZOFFSETTO:-0700
TZNAME:PDT
DTSTART:20220313T100000
END:DAYLIGHT
BEGIN:STANDARD
TZOFFSETFROM:-0700
TZOFFSETTO:-0800
TZNAME:PST
DTSTART:20221106T090000
END:STANDARD
BEGIN:DAYLIGHT
TZOFFSETFROM:-0800
TZOFFSETTO:-0700
TZNAME:PDT
DTSTART:20230312T100000
END:DAYLIGHT
BEGIN:STANDARD
TZOFFSETFROM:-0700
TZOFFSETTO:-0800
TZNAME:PST
DTSTART:20231105T090000
END:STANDARD
BEGIN:DAYLIGHT
TZOFFSETFROM:-0800
TZOFFSETTO:-0700
TZNAME:PDT
DTSTART:20240310T100000
END:DAYLIGHT
BEGIN:STANDARD
TZOFFSETFROM:-0700
TZOFFSETTO:-0800
TZNAME:PST
DTSTART:20241103T090000
END:STANDARD
END:VTIMEZONE
BEGIN:VEVENT
DTSTART;TZID=America/Los_Angeles:20230726T170000
DTEND;TZID=America/Los_Angeles:20230726T200000
DTSTAMP:20260422T151948
CREATED:20230620T034933Z
LAST-MODIFIED:20230717T044926Z
UID:2868-1690390800-1690401600@jacksonvillecottages.com
SUMMARY:HARC Meeting
DESCRIPTION:All meeting held at New City Hall Assembly Room (NCHAR) CITIZEN ADVISORY COMMITTEE:  Tuesday\, July 4\, 2:30pm CANCELED DUE TO HOLIDAYCITY COUNCIL: Tuesday\, July 4\, 6pm CANCELED DUE TO HOLIDAY PLANNING COMMISSION MEETING: Wednesday\, July 12\, 6pmCITY COUNCIL WORK SESSION: Tuesday\, July 18\, noonCITIZEN ADVISORY COMMITTEE:  Tuesday\, July 18\, 2:30pmHISTORIC & ARCHITECTURAL REVIEW COMMISSION (HARC): Wednesday\, July 26\, 5pm
URL:https://jacksonvillecottages.com/event/harc-meeting-12/
LOCATION:Jacksonville City Hall\, 206 N 5th St\, Jacksonville\, OR 97530\, USA
END:VEVENT
END:VCALENDAR