BEGIN:VCALENDAR
VERSION:2.0
PRODID:-//Jacksonville Cottages - Nightly &amp; Monthly Rentals in Jacksonville, Oregon - ECPv6.15.20//NONSGML v1.0//EN
CALSCALE:GREGORIAN
METHOD:PUBLISH
X-ORIGINAL-URL:https://jacksonvillecottages.com
X-WR-CALDESC:Events for Jacksonville Cottages - Nightly &amp; Monthly Rentals in Jacksonville, Oregon
REFRESH-INTERVAL;VALUE=DURATION:PT1H
X-Robots-Tag:noindex
X-PUBLISHED-TTL:PT1H
BEGIN:VTIMEZONE
TZID:America/Los_Angeles
BEGIN:DAYLIGHT
TZOFFSETFROM:-0800
TZOFFSETTO:-0700
TZNAME:PDT
DTSTART:20220313T100000
END:DAYLIGHT
BEGIN:STANDARD
TZOFFSETFROM:-0700
TZOFFSETTO:-0800
TZNAME:PST
DTSTART:20221106T090000
END:STANDARD
BEGIN:DAYLIGHT
TZOFFSETFROM:-0800
TZOFFSETTO:-0700
TZNAME:PDT
DTSTART:20230312T100000
END:DAYLIGHT
BEGIN:STANDARD
TZOFFSETFROM:-0700
TZOFFSETTO:-0800
TZNAME:PST
DTSTART:20231105T090000
END:STANDARD
BEGIN:DAYLIGHT
TZOFFSETFROM:-0800
TZOFFSETTO:-0700
TZNAME:PDT
DTSTART:20240310T100000
END:DAYLIGHT
BEGIN:STANDARD
TZOFFSETFROM:-0700
TZOFFSETTO:-0800
TZNAME:PST
DTSTART:20241103T090000
END:STANDARD
END:VTIMEZONE
BEGIN:VEVENT
DTSTART;TZID=America/Los_Angeles:20230824T100000
DTEND;TZID=America/Los_Angeles:20230824T110000
DTSTAMP:20260422T121933
CREATED:20220708T172641Z
LAST-MODIFIED:20220728T190447Z
UID:250-1692871200-1692874800@jacksonvillecottages.com
SUMMARY:Tai Chi with Carolyn
DESCRIPTION:This program is sponsored by the Jacksonville Commmunity Center(JCC). JCC is a charitable 501(c)(3) non-profit organization. \nIndoor Location: Great Room \nOutdoor Location: Parking lot near the Jacksonville Cemetery entrance; Enter on West D St. \nThursdays (11/4\, 11/11\, 11/18\, (11/25 OFF) 12/2\, 12/9\, 12/16)) \n10:00 am – 11:00 am   \n$5 Fee (scholarships available) \nRegistration is strongly recommended.  \nPlease pre-register for each class\, as the location will be communicated via email at least an hour before class starts. \n \nhttps://jacksonvillecommunitycenter.org/eventer/tai-chi-with-carolyn-2/  \n \nPlease arrive 5-10 minutes early to fill out the necessary paperwork. \n \nPlease be advised: If a class needs to be cancelled or changed in some way\, registrants will receive an email at least an hour before class. Please check your email prior to attending our classes. \n \nPractice Tai Chi and relax while you tone and gently exercise your body. Tai Chi incorporates balance\, breathing\, and slow movements of the entire body while relaxing your mind. Tai Chi will gradually improve your posture\, balance\, flexibility and sense of well being by the continued practice of this Chinese art form. \nNew students can begin the class anytime.  \n \nAbout Carolyn \nCarolyn Wolf is a retired educator\, transplanted from California. For the past 12 years she has been studying and practicing Tai Chi and Qigong with her Sifu\, Estin Kiger\, here in the Rogue Valley. She has a Practice Leader Certificate from the Institute of Integral Qigong and Tai Chi\, and has been leading practice groups for six years. The rest of her life is consumed by gardening\, hiking and exploring beautiful Southern Oregon\, and creating one of a kind scrap quilts and fiber art. \n \nParticipant Requirements 8.27.2021
URL:https://jacksonvillecottages.com/event/tai-chi-with-carolyn-59/
END:VEVENT
BEGIN:VEVENT
DTSTART;TZID=America/Los_Angeles:20230824T170000
DTEND;TZID=America/Los_Angeles:20230824T200000
DTSTAMP:20260422T121933
CREATED:20230131T210417Z
LAST-MODIFIED:20230717T044916Z
UID:2017-1692896400-1692907200@jacksonvillecottages.com
SUMMARY:Best of Britt Fundraiser - Pink Martini featuring China Forbes
DESCRIPTION:With Pink Martini featuring China Forbes!\nTickets for Best of Britt are limited to 450. This event will SELL OUT! \nSupport your Britt Music & Arts Festival by joining us at Best of Britt\, our annual fundraising extravaganza! It’s a fun-filled night of food\, wine\, beer\, and music on the Britt hill. Tickets for this benefit event are $140 per person and include a premium reserved seat to the concert\, food from ten local restaurants\, wine from ten local wineries\, and beer from Western Beverage. A Live Auction of tempting Britt-centric packages (things like first dibs on concert tickets\, backstage dinners\, and instruments signed by Britt artists) and a “paddle call” to support Britt’s Education & Engagement programs will round out the evening. \nThen\, you’ll be treated to an incredible concert with Pink Martini featuring China Forbes! \nProceeds from this event support Britt’s work: keeping our public park in great shape 365 days per year\, bringing artists into schools\, supporting the extraordinary Britt Festival Orchestra\, underwriting our always-admission-free programs for kids\, and so much more. Your presence makes it possible! \nTicket info:* Tickets to the Best of Britt benefit include all food\, wine/beer tastings\, and a premium reserved seat for the concert* Member benefits do not apply to this special event.* If you would like to pick your seating\, please call the box office to order your tickets at 1-800-882-7488 or 541-773-6077* Tickets to the Best of Britt include a premium reserved seat ticket or premium blanket ticket to the concert. (Premium blanket spaces are sold as two- or four-person blankets).* Lawn tickets and some reserved seats will be available to patrons who want to attend the concert only at a future date TBD. \n www.brittfest.org
URL:https://jacksonvillecottages.com/event/best-of-britt-fundraiser-pink-martini-featuring-china-forbes/
LOCATION:Britt Festival Pavilion\, 350 S 1st St\, Jacksonville\, OR 97530\, USA
END:VEVENT
BEGIN:VEVENT
DTSTART;TZID=America/Los_Angeles:20230824T180000
DTEND;TZID=America/Los_Angeles:20230824T200000
DTSTAMP:20260422T121933
CREATED:20230523T030427Z
LAST-MODIFIED:20230717T044916Z
UID:2767-1692900000-1692907200@jacksonvillecottages.com
SUMMARY:Rock the River Concert Series at Red Lily Vineyards
DESCRIPTION:ROCKthe RIVER with us this summer!  \nJoinus EVERY Thursday night\, from 6-8 for AMAZING local bands\, delicious foodtrucks\, and award-winning Red Lily wines! \n(No Cover/No Outside Alcohol)  \nJune08 The Brothers Reed \nJune15 An Evening with LesStroud \nJune22 Danielle Kelly SoulProject \nJune29 Mike Brons Band \nJuly06 Malinka \nJuly13 Watson House \nJuly20 Shine On \nJuly27 Mercy ft. Lynda Day \nAugust03 Nick & Shae \nAugust10 Alquimistas \nAugust17 Redwood Empire \nAugust24 Saucy \nAugust31 Rogue Suspects
URL:https://jacksonvillecottages.com/event/rock-the-river-concert-series-at-red-lily-vineyards-12/
LOCATION:Red Lily Vineyards\, 11777 OR-238\, Jacksonville\, OR 97530\, USA
END:VEVENT
END:VCALENDAR