BEGIN:VCALENDAR
VERSION:2.0
PRODID:-//Jacksonville Cottages - Nightly &amp; Monthly Rentals in Jacksonville, Oregon - ECPv6.15.20//NONSGML v1.0//EN
CALSCALE:GREGORIAN
METHOD:PUBLISH
X-ORIGINAL-URL:https://jacksonvillecottages.com
X-WR-CALDESC:Events for Jacksonville Cottages - Nightly &amp; Monthly Rentals in Jacksonville, Oregon
REFRESH-INTERVAL;VALUE=DURATION:PT1H
X-Robots-Tag:noindex
X-PUBLISHED-TTL:PT1H
BEGIN:VTIMEZONE
TZID:America/Los_Angeles
BEGIN:DAYLIGHT
TZOFFSETFROM:-0800
TZOFFSETTO:-0700
TZNAME:PDT
DTSTART:20220313T100000
END:DAYLIGHT
BEGIN:STANDARD
TZOFFSETFROM:-0700
TZOFFSETTO:-0800
TZNAME:PST
DTSTART:20221106T090000
END:STANDARD
BEGIN:DAYLIGHT
TZOFFSETFROM:-0800
TZOFFSETTO:-0700
TZNAME:PDT
DTSTART:20230312T100000
END:DAYLIGHT
BEGIN:STANDARD
TZOFFSETFROM:-0700
TZOFFSETTO:-0800
TZNAME:PST
DTSTART:20231105T090000
END:STANDARD
BEGIN:DAYLIGHT
TZOFFSETFROM:-0800
TZOFFSETTO:-0700
TZNAME:PDT
DTSTART:20240310T100000
END:DAYLIGHT
BEGIN:STANDARD
TZOFFSETFROM:-0700
TZOFFSETTO:-0800
TZNAME:PST
DTSTART:20241103T090000
END:STANDARD
END:VTIMEZONE
BEGIN:VEVENT
DTSTART;TZID=America/Los_Angeles:20231216T120000
DTEND;TZID=America/Los_Angeles:20231216T170000
DTSTAMP:20260422T012530
CREATED:20230221T221922Z
LAST-MODIFIED:20230717T044919Z
UID:2117-1702728000-1702746000@jacksonvillecottages.com
SUMMARY:5th Annual Christmas On A Covered Bridge
DESCRIPTION:December 16\, noon – 5PM: 5th Annual Christmas On A Covered Bridge \nOur 106-year-old bridge will be dressed in greenery and lights and decked with a dozen decorated trees\, with a raffle to take a very special one home. Mega bake sale. Gift shopping. Santa and Mrs. Claus. Free hot beverages. Proceeds support the MBHS Scholarship Program.
URL:https://jacksonvillecottages.com/event/5th-annual-christmas-on-a-covered-bridge/
END:VEVENT
END:VCALENDAR