BEGIN:VCALENDAR
VERSION:2.0
PRODID:-//Jacksonville Cottages - Nightly &amp; Monthly Rentals in Jacksonville, Oregon - ECPv6.15.20//NONSGML v1.0//EN
CALSCALE:GREGORIAN
METHOD:PUBLISH
X-WR-CALNAME:Jacksonville Cottages - Nightly &amp; Monthly Rentals in Jacksonville, Oregon
X-ORIGINAL-URL:https://jacksonvillecottages.com
X-WR-CALDESC:Events for Jacksonville Cottages - Nightly &amp; Monthly Rentals in Jacksonville, Oregon
REFRESH-INTERVAL;VALUE=DURATION:PT1H
X-Robots-Tag:noindex
X-PUBLISHED-TTL:PT1H
BEGIN:VTIMEZONE
TZID:America/Los_Angeles
BEGIN:DAYLIGHT
TZOFFSETFROM:-0800
TZOFFSETTO:-0700
TZNAME:PDT
DTSTART:20230312T100000
END:DAYLIGHT
BEGIN:STANDARD
TZOFFSETFROM:-0700
TZOFFSETTO:-0800
TZNAME:PST
DTSTART:20231105T090000
END:STANDARD
BEGIN:DAYLIGHT
TZOFFSETFROM:-0800
TZOFFSETTO:-0700
TZNAME:PDT
DTSTART:20240310T100000
END:DAYLIGHT
BEGIN:STANDARD
TZOFFSETFROM:-0700
TZOFFSETTO:-0800
TZNAME:PST
DTSTART:20241103T090000
END:STANDARD
BEGIN:DAYLIGHT
TZOFFSETFROM:-0800
TZOFFSETTO:-0700
TZNAME:PDT
DTSTART:20250309T100000
END:DAYLIGHT
BEGIN:STANDARD
TZOFFSETFROM:-0700
TZOFFSETTO:-0800
TZNAME:PST
DTSTART:20251102T090000
END:STANDARD
END:VTIMEZONE
BEGIN:VEVENT
DTSTART;TZID=America/Los_Angeles:20240314T100000
DTEND;TZID=America/Los_Angeles:20240314T110000
DTSTAMP:20260421T191349
CREATED:20220708T172646Z
LAST-MODIFIED:20220728T190449Z
UID:292-1710410400-1710414000@jacksonvillecottages.com
SUMMARY:Tai Chi with Carolyn
DESCRIPTION:This program is sponsored by the Jacksonville Commmunity Center(JCC). JCC is a charitable 501(c)(3) non-profit organization. \nIndoor Location: Great Room \nOutdoor Location: Parking lot near the Jacksonville Cemetery entrance; Enter on West D St. \nThursdays (11/4\, 11/11\, 11/18\, (11/25 OFF) 12/2\, 12/9\, 12/16)) \n10:00 am – 11:00 am   \n$5 Fee (scholarships available) \nRegistration is strongly recommended.  \nPlease pre-register for each class\, as the location will be communicated via email at least an hour before class starts. \n \nhttps://jacksonvillecommunitycenter.org/eventer/tai-chi-with-carolyn-2/  \n \nPlease arrive 5-10 minutes early to fill out the necessary paperwork. \n \nPlease be advised: If a class needs to be cancelled or changed in some way\, registrants will receive an email at least an hour before class. Please check your email prior to attending our classes. \n \nPractice Tai Chi and relax while you tone and gently exercise your body. Tai Chi incorporates balance\, breathing\, and slow movements of the entire body while relaxing your mind. Tai Chi will gradually improve your posture\, balance\, flexibility and sense of well being by the continued practice of this Chinese art form. \nNew students can begin the class anytime.  \n \nAbout Carolyn \nCarolyn Wolf is a retired educator\, transplanted from California. For the past 12 years she has been studying and practicing Tai Chi and Qigong with her Sifu\, Estin Kiger\, here in the Rogue Valley. She has a Practice Leader Certificate from the Institute of Integral Qigong and Tai Chi\, and has been leading practice groups for six years. The rest of her life is consumed by gardening\, hiking and exploring beautiful Southern Oregon\, and creating one of a kind scrap quilts and fiber art. \n \nParticipant Requirements 8.27.2021
URL:https://jacksonvillecottages.com/event/tai-chi-with-carolyn-88/
END:VEVENT
END:VCALENDAR