BEGIN:VCALENDAR
VERSION:2.0
PRODID:-//Jacksonville Cottages - Nightly &amp; Monthly Rentals in Jacksonville, Oregon - ECPv6.15.20//NONSGML v1.0//EN
CALSCALE:GREGORIAN
METHOD:PUBLISH
X-WR-CALNAME:Jacksonville Cottages - Nightly &amp; Monthly Rentals in Jacksonville, Oregon
X-ORIGINAL-URL:https://jacksonvillecottages.com
X-WR-CALDESC:Events for Jacksonville Cottages - Nightly &amp; Monthly Rentals in Jacksonville, Oregon
REFRESH-INTERVAL;VALUE=DURATION:PT1H
X-Robots-Tag:noindex
X-PUBLISHED-TTL:PT1H
BEGIN:VTIMEZONE
TZID:America/Los_Angeles
BEGIN:DAYLIGHT
TZOFFSETFROM:-0800
TZOFFSETTO:-0700
TZNAME:PDT
DTSTART:20230312T100000
END:DAYLIGHT
BEGIN:STANDARD
TZOFFSETFROM:-0700
TZOFFSETTO:-0800
TZNAME:PST
DTSTART:20231105T090000
END:STANDARD
BEGIN:DAYLIGHT
TZOFFSETFROM:-0800
TZOFFSETTO:-0700
TZNAME:PDT
DTSTART:20240310T100000
END:DAYLIGHT
BEGIN:STANDARD
TZOFFSETFROM:-0700
TZOFFSETTO:-0800
TZNAME:PST
DTSTART:20241103T090000
END:STANDARD
BEGIN:DAYLIGHT
TZOFFSETFROM:-0800
TZOFFSETTO:-0700
TZNAME:PDT
DTSTART:20250309T100000
END:DAYLIGHT
BEGIN:STANDARD
TZOFFSETFROM:-0700
TZOFFSETTO:-0800
TZNAME:PST
DTSTART:20251102T090000
END:STANDARD
END:VTIMEZONE
BEGIN:VEVENT
DTSTART;TZID=America/Los_Angeles:20240910T140000
DTEND;TZID=America/Los_Angeles:20240910T153000
DTSTAMP:20260421T103713
CREATED:20221015T005144Z
LAST-MODIFIED:20230717T044925Z
UID:1606-1725976800-1725982200@jacksonvillecottages.com
SUMMARY:CT - Jville Shut Up & Write
DESCRIPTION:This program is sponsored by the Jacksonville Commmunity Center(JCC). JCC is a charitable 501(c)(3) non-profit organization. \nJacksonville Shut Up & Write \nJCC Cottage \nTuesdays \n10/4\, 10/11\, 10/18\, & 10/25 \n2:00 pm – 3:30 pm \n$5 Suggested Donation(scholarships available) \nPre-registration required.  \nhttps://jacksonvillecommunitycenter.org/eventer/jacksonville-shut-up-write-10-2022/edate/ \nDescription \nJacksonville is a community of writers! Schedule weekly time to write in the company of people who take writing seriously. Ours is the local chapter of an international non-profit called ‘Shut Up & Write’ which supports the advancement of writing of any kind to become more articulate and more creative. \n \nPresenter: Mike Bowman \nMike Bowman came to Oregon in 2005 after teaching high school in California for 10 years. While teaching reading for RCC\, he created and managed the education program for a local non-profit until coming to RVTD as Travel Trainer in 2011.
URL:https://jacksonvillecottages.com/event/ct-jville-shut-up-write-102/
END:VEVENT
END:VCALENDAR