BEGIN:VCALENDAR
VERSION:2.0
PRODID:-//Jacksonville Cottages - Nightly &amp; Monthly Rentals in Jacksonville, Oregon - ECPv6.15.20//NONSGML v1.0//EN
CALSCALE:GREGORIAN
METHOD:PUBLISH
X-ORIGINAL-URL:https://jacksonvillecottages.com
X-WR-CALDESC:Events for Jacksonville Cottages - Nightly &amp; Monthly Rentals in Jacksonville, Oregon
REFRESH-INTERVAL;VALUE=DURATION:PT1H
X-Robots-Tag:noindex
X-PUBLISHED-TTL:PT1H
BEGIN:VTIMEZONE
TZID:Etc/GMT
BEGIN:STANDARD
TZOFFSETFROM:+0000
TZOFFSETTO:+0000
TZNAME:GMT
DTSTART:20210101T000000
END:STANDARD
END:VTIMEZONE
BEGIN:VEVENT
DTSTART;TZID=Etc/GMT:20220731T160000
DTEND;TZID=Etc/GMT:20220731T180000
DTSTAMP:20260424T065115
CREATED:20220722T153008Z
LAST-MODIFIED:20220722T153840Z
UID:854-1659283200-1659290400@jacksonvillecottages.com
SUMMARY:Rellik Winery: Live Music: Michael Quinn & Cherry Wine
DESCRIPTION:
URL:https://jacksonvillecottages.com/event/live-music-michael-quinn-cherry-wine/
CATEGORIES:General
ORGANIZER;CN="llower31":MAILTO:laurel@creativemdesign.com
END:VEVENT
BEGIN:VEVENT
DTSTART;TZID=Etc/GMT:20220730T193000
DTEND;TZID=Etc/GMT:20220730T203000
DTSTAMP:20260424T065115
CREATED:20220722T153008Z
LAST-MODIFIED:20220722T153844Z
UID:853-1659209400-1659213000@jacksonvillecottages.com
SUMMARY:S.Stage Cellars:  Dinner in the Vines with Music by Rick Millward
DESCRIPTION:
URL:https://jacksonvillecottages.com/event/dinner-in-the-vines-with-music-by-rick-millward/
CATEGORIES:General
ORGANIZER;CN="llower31":MAILTO:laurel@creativemdesign.com
END:VEVENT
BEGIN:VEVENT
DTSTART;TZID=Etc/GMT:20220729T170000
DTEND;TZID=Etc/GMT:20220729T190000
DTSTAMP:20260424T065115
CREATED:20220722T153008Z
LAST-MODIFIED:20220722T153901Z
UID:852-1659114000-1659121200@jacksonvillecottages.com
SUMMARY:Rellik Winery: Live Music: Jimmy Limo
DESCRIPTION:
URL:https://jacksonvillecottages.com/event/live-music-jimmy-limo/
CATEGORIES:General
ORGANIZER;CN="llower31":MAILTO:laurel@creativemdesign.com
END:VEVENT
BEGIN:VEVENT
DTSTART;TZID=Etc/GMT:20220725T180000
DTEND;TZID=Etc/GMT:20220725T200000
DTSTAMP:20260424T065115
CREATED:20220722T153008Z
LAST-MODIFIED:20220722T153909Z
UID:851-1658772000-1658779200@jacksonvillecottages.com
SUMMARY:S.Stage Cellars:  Wine Club Social with Music by Mike Brons
DESCRIPTION:
URL:https://jacksonvillecottages.com/event/wine-club-social-with-music-by-mike-brons/
CATEGORIES:General
ORGANIZER;CN="llower31":MAILTO:laurel@creativemdesign.com
END:VEVENT
BEGIN:VEVENT
DTSTART;TZID=Etc/GMT:20220724T160000
DTEND;TZID=Etc/GMT:20220724T180000
DTSTAMP:20260424T065115
CREATED:20220722T153008Z
LAST-MODIFIED:20220722T153915Z
UID:850-1658678400-1658685600@jacksonvillecottages.com
SUMMARY:Rellik Winery: Live Music: Dennis Konecny
DESCRIPTION:
URL:https://jacksonvillecottages.com/event/live-music-dennis-konecny/
CATEGORIES:General
ORGANIZER;CN="llower31":MAILTO:laurel@creativemdesign.com
END:VEVENT
BEGIN:VEVENT
DTSTART;TZID=Etc/GMT:20220723T160000
DTEND;TZID=Etc/GMT:20220723T180000
DTSTAMP:20260424T065115
CREATED:20220722T153008Z
LAST-MODIFIED:20220722T153927Z
UID:849-1658592000-1658599200@jacksonvillecottages.com
SUMMARY:Rellik Winery: Live Music: Redwood Empire
DESCRIPTION:
URL:https://jacksonvillecottages.com/event/live-music-redwood-empire-2/
CATEGORIES:General
ORGANIZER;CN="llower31":MAILTO:laurel@creativemdesign.com
END:VEVENT
BEGIN:VEVENT
DTSTART;TZID=Etc/GMT:20220722T170000
DTEND;TZID=Etc/GMT:20220722T190000
DTSTAMP:20260424T065115
CREATED:20220722T153008Z
LAST-MODIFIED:20220722T153939Z
UID:847-1658509200-1658516400@jacksonvillecottages.com
SUMMARY:Rellik Winery: Live Music: Scott Nelson
DESCRIPTION:
URL:https://jacksonvillecottages.com/event/live-music-scott-nelson/
CATEGORIES:General
ORGANIZER;CN="llower31":MAILTO:laurel@creativemdesign.com
END:VEVENT
END:VCALENDAR