BEGIN:VCALENDAR
VERSION:2.0
PRODID:-//Jacksonville Cottages - Nightly &amp; Monthly Rentals in Jacksonville, Oregon - ECPv6.15.20//NONSGML v1.0//EN
CALSCALE:GREGORIAN
METHOD:PUBLISH
X-ORIGINAL-URL:https://jacksonvillecottages.com
X-WR-CALDESC:Events for Jacksonville Cottages - Nightly &amp; Monthly Rentals in Jacksonville, Oregon
REFRESH-INTERVAL;VALUE=DURATION:PT1H
X-Robots-Tag:noindex
X-PUBLISHED-TTL:PT1H
BEGIN:VTIMEZONE
TZID:America/Los_Angeles
BEGIN:DAYLIGHT
TZOFFSETFROM:-0800
TZOFFSETTO:-0700
TZNAME:PDT
DTSTART:20210314T100000
END:DAYLIGHT
BEGIN:STANDARD
TZOFFSETFROM:-0700
TZOFFSETTO:-0800
TZNAME:PST
DTSTART:20211107T090000
END:STANDARD
BEGIN:DAYLIGHT
TZOFFSETFROM:-0800
TZOFFSETTO:-0700
TZNAME:PDT
DTSTART:20220313T100000
END:DAYLIGHT
BEGIN:STANDARD
TZOFFSETFROM:-0700
TZOFFSETTO:-0800
TZNAME:PST
DTSTART:20221106T090000
END:STANDARD
BEGIN:DAYLIGHT
TZOFFSETFROM:-0800
TZOFFSETTO:-0700
TZNAME:PDT
DTSTART:20230312T100000
END:DAYLIGHT
BEGIN:STANDARD
TZOFFSETFROM:-0700
TZOFFSETTO:-0800
TZNAME:PST
DTSTART:20231105T090000
END:STANDARD
END:VTIMEZONE
BEGIN:VEVENT
DTSTART;TZID=America/Los_Angeles:20220504T180000
DTEND;TZID=America/Los_Angeles:20220504T200000
DTSTAMP:20260423T180220
CREATED:20220722T150549Z
LAST-MODIFIED:20220722T150549Z
UID:674-1651687200-1651694400@jacksonvillecottages.com
SUMMARY:Clayton Joseph-Scott 6:00-8:00 PM $15 Dinner or $5 cover
DESCRIPTION:
URL:https://jacksonvillecottages.com/event/clayton-joseph-scott-600-800-pm-15-dinner-or-5-cover/
END:VEVENT
BEGIN:VEVENT
DTSTART;TZID=America/Los_Angeles:20220506T180000
DTEND;TZID=America/Los_Angeles:20220506T200000
DTSTAMP:20260423T180220
CREATED:20220722T150534Z
LAST-MODIFIED:20220722T150534Z
UID:672-1651860000-1651867200@jacksonvillecottages.com
SUMMARY:Live Music w/ Steve Hopkins & Band fo Bro’s – 6-8pm
DESCRIPTION:
URL:https://jacksonvillecottages.com/event/live-music-w-steve-hopkins-band-fo-bros-6-8pm/
END:VEVENT
BEGIN:VEVENT
DTSTART;TZID=America/Los_Angeles:20220507T180000
DTEND;TZID=America/Los_Angeles:20220507T200000
DTSTAMP:20260423T180220
CREATED:20220722T150534Z
LAST-MODIFIED:20220722T150534Z
UID:671-1651946400-1651953600@jacksonvillecottages.com
SUMMARY:Live Music w/ Adam Gabriel & The Cavaliers $5 cover
DESCRIPTION:
URL:https://jacksonvillecottages.com/event/live-music-w-adam-gabriel-the-cavaliers-5-cover/
END:VEVENT
BEGIN:VEVENT
DTSTART;TZID=America/Los_Angeles:20220511T180000
DTEND;TZID=America/Los_Angeles:20220511T200000
DTSTAMP:20260423T180220
CREATED:20220722T150549Z
LAST-MODIFIED:20220722T150549Z
UID:675-1652292000-1652299200@jacksonvillecottages.com
SUMMARY:Jeff Kloetzel 6:00-8:00 PM $15 Dinner+Cover
DESCRIPTION:
URL:https://jacksonvillecottages.com/event/jeff-kloetzel-600-800-pm-15-dinnercover/
END:VEVENT
BEGIN:VEVENT
DTSTART;TZID=America/Los_Angeles:20220513T180000
DTEND;TZID=America/Los_Angeles:20220513T200000
DTSTAMP:20260423T180220
CREATED:20220722T150519Z
LAST-MODIFIED:20220722T150520Z
UID:660-1652464800-1652472000@jacksonvillecottages.com
SUMMARY:Steve Schein
DESCRIPTION:
URL:https://jacksonvillecottages.com/event/steve-schein/
END:VEVENT
BEGIN:VEVENT
DTSTART;TZID=America/Los_Angeles:20220514T180000
DTEND;TZID=America/Los_Angeles:20220514T200000
DTSTAMP:20260423T180220
CREATED:20220722T150534Z
LAST-MODIFIED:20220722T150534Z
UID:669-1652551200-1652558400@jacksonvillecottages.com
SUMMARY:Live Music w/ Alissa Weaver & Pacifica $5 cover
DESCRIPTION:
URL:https://jacksonvillecottages.com/event/live-music-w-alissa-weaver-pacifica-5-cover-2/
END:VEVENT
BEGIN:VEVENT
DTSTART;TZID=America/Los_Angeles:20220518T180000
DTEND;TZID=America/Los_Angeles:20220518T200000
DTSTAMP:20260423T180220
CREATED:20220722T150519Z
LAST-MODIFIED:20220722T150520Z
UID:659-1652896800-1652904000@jacksonvillecottages.com
SUMMARY:Daniel Nickels 6:00-8:00 PM $15 Dinner or $5 Cover
DESCRIPTION:
URL:https://jacksonvillecottages.com/event/daniel-nickels-600-800-pm-15-dinner-or-5-cover/
END:VEVENT
BEGIN:VEVENT
DTSTART;TZID=America/Los_Angeles:20220520T180000
DTEND;TZID=America/Los_Angeles:20220520T200000
DTSTAMP:20260423T180220
CREATED:20220722T150519Z
LAST-MODIFIED:20220722T150520Z
UID:661-1653069600-1653076800@jacksonvillecottages.com
SUMMARY:Live Music w/ Keenan Pruett\, New to South Stage
DESCRIPTION:
URL:https://jacksonvillecottages.com/event/live-music-w-keenan-pruett-new-to-south-stage/
END:VEVENT
BEGIN:VEVENT
DTSTART;TZID=America/Los_Angeles:20220521T180000
DTEND;TZID=America/Los_Angeles:20220521T200000
DTSTAMP:20260423T180220
CREATED:20220722T150519Z
LAST-MODIFIED:20220722T150520Z
UID:662-1653156000-1653163200@jacksonvillecottages.com
SUMMARY:Live Music w/ Blue Lightning – 6-8pm\, $8 cover
DESCRIPTION:
URL:https://jacksonvillecottages.com/event/live-music-w-blue-lightning-6-8pm-8-cover/
END:VEVENT
BEGIN:VEVENT
DTSTART;TZID=America/Los_Angeles:20220527T180000
DTEND;TZID=America/Los_Angeles:20220527T200000
DTSTAMP:20260423T180220
CREATED:20220722T150518Z
LAST-MODIFIED:20220722T150518Z
UID:658-1653674400-1653681600@jacksonvillecottages.com
SUMMARY:Live Music: Adam Gabriel – 6-8pm\, $5 Cover
DESCRIPTION:
URL:https://jacksonvillecottages.com/event/live-music-adam-gabriel-6-8pm-5-cover/
END:VEVENT
BEGIN:VEVENT
DTSTART;TZID=America/Los_Angeles:20220528T180000
DTEND;TZID=America/Los_Angeles:20220528T200000
DTSTAMP:20260423T180220
CREATED:20220722T150517Z
LAST-MODIFIED:20220722T150517Z
UID:657-1653760800-1653768000@jacksonvillecottages.com
SUMMARY:Live Musicw/ Rouge Suspects\, Motown Soul Review $20 cover 6-8pm
DESCRIPTION:
URL:https://jacksonvillecottages.com/event/live-musicw-rouge-suspects-motown-soul-review-20-cover-6-8pm/
END:VEVENT
END:VCALENDAR