BEGIN:VCALENDAR
VERSION:2.0
PRODID:-//Jacksonville Cottages - Nightly &amp; Monthly Rentals in Jacksonville, Oregon - ECPv6.15.20//NONSGML v1.0//EN
CALSCALE:GREGORIAN
METHOD:PUBLISH
X-WR-CALNAME:Jacksonville Cottages - Nightly &amp; Monthly Rentals in Jacksonville, Oregon
X-ORIGINAL-URL:https://jacksonvillecottages.com
X-WR-CALDESC:Events for Jacksonville Cottages - Nightly &amp; Monthly Rentals in Jacksonville, Oregon
REFRESH-INTERVAL;VALUE=DURATION:PT1H
X-Robots-Tag:noindex
X-PUBLISHED-TTL:PT1H
BEGIN:VTIMEZONE
TZID:America/Los_Angeles
BEGIN:DAYLIGHT
TZOFFSETFROM:-0800
TZOFFSETTO:-0700
TZNAME:PDT
DTSTART:20220313T100000
END:DAYLIGHT
BEGIN:STANDARD
TZOFFSETFROM:-0700
TZOFFSETTO:-0800
TZNAME:PST
DTSTART:20221106T090000
END:STANDARD
BEGIN:DAYLIGHT
TZOFFSETFROM:-0800
TZOFFSETTO:-0700
TZNAME:PDT
DTSTART:20230312T100000
END:DAYLIGHT
BEGIN:STANDARD
TZOFFSETFROM:-0700
TZOFFSETTO:-0800
TZNAME:PST
DTSTART:20231105T090000
END:STANDARD
BEGIN:DAYLIGHT
TZOFFSETFROM:-0800
TZOFFSETTO:-0700
TZNAME:PDT
DTSTART:20240310T100000
END:DAYLIGHT
BEGIN:STANDARD
TZOFFSETFROM:-0700
TZOFFSETTO:-0800
TZNAME:PST
DTSTART:20241103T090000
END:STANDARD
END:VTIMEZONE
BEGIN:VEVENT
DTSTART;TZID=America/Los_Angeles:20230103T133000
DTEND;TZID=America/Los_Angeles:20230103T150000
DTSTAMP:20260423T045012
CREATED:20220708T172637Z
LAST-MODIFIED:20230103T193453Z
UID:190-1672752600-1672758000@jacksonvillecottages.com
SUMMARY:CT- Lets Create!
DESCRIPTION:JCC Cottage \n1st and 3rd Tuesdays \nTuesday\, January 4th and 18th \n1:30 pm- 3:00 pm \nDonations appreciated.  \nNo registration required.  \n\nDescription:  \nBring a project from home (knitting\, crocheting\, wreath making\, etc)  to work on while chatting \nwith neighbors\, learning new skills\, and making new friends! \n  \nParticipant Requirements 8.27.2021
URL:https://jacksonvillecottages.com/event/ct-lets-create-12/
END:VEVENT
BEGIN:VEVENT
DTSTART;TZID=America/Los_Angeles:20230103T140000
DTEND;TZID=America/Los_Angeles:20230103T153000
DTSTAMP:20260423T045012
CREATED:20220914T235013Z
LAST-MODIFIED:20230103T193453Z
UID:1335-1672754400-1672759800@jacksonvillecottages.com
SUMMARY:CT - Jville Shut Up & Write
DESCRIPTION:This program is sponsored by the Jacksonville Commmunity Center(JCC). JCC is a charitable 501(c)(3) non-profit organization. \nJacksonville Shut Up & Write \nJCC Cottage \nTuesdays \n10/4\, 10/11\, 10/18\, & 10/25 \n2:00 pm – 3:30 pm \n$5 Suggested Donation(scholarships available) \nPre-registration required.  \nhttps://jacksonvillecommunitycenter.org/eventer/jacksonville-shut-up-write-10-2022/edate/ \nDescription \nJacksonville is a community of writers! Schedule weekly time to write in the company of people who take writing seriously. Ours is the local chapter of an international non-profit called ‘Shut Up & Write’ which supports the advancement of writing of any kind to become more articulate and more creative. \n \nPresenter: Mike Bowman \nMike Bowman came to Oregon in 2005 after teaching high school in California for 10 years. While teaching reading for RCC\, he created and managed the education program for a local non-profit until coming to RVTD as Travel Trainer in 2011.
URL:https://jacksonvillecottages.com/event/ct-jville-shut-up-write-14/
END:VEVENT
BEGIN:VEVENT
DTSTART;TZID=America/Los_Angeles:20230105T100000
DTEND;TZID=America/Los_Angeles:20230105T110000
DTSTAMP:20260423T045012
CREATED:20220708T172637Z
LAST-MODIFIED:20220913T234921Z
UID:191-1672912800-1672916400@jacksonvillecottages.com
SUMMARY:Tai Chi with Carolyn
DESCRIPTION:This program is sponsored by the Jacksonville Commmunity Center(JCC). JCC is a charitable 501(c)(3) non-profit organization. \nIndoor Location: Great Room \nOutdoor Location: Parking lot near the Jacksonville Cemetery entrance; Enter on West D St. \nThursdays (11/4\, 11/11\, 11/18\, (11/25 OFF) 12/2\, 12/9\, 12/16)) \n10:00 am – 11:00 am   \n$5 Fee (scholarships available) \nRegistration is strongly recommended.  \nPlease pre-register for each class\, as the location will be communicated via email at least an hour before class starts. \n \nhttps://jacksonvillecommunitycenter.org/eventer/tai-chi-with-carolyn-2/  \n \nPlease arrive 5-10 minutes early to fill out the necessary paperwork. \n \nPlease be advised: If a class needs to be cancelled or changed in some way\, registrants will receive an email at least an hour before class. Please check your email prior to attending our classes. \n \nPractice Tai Chi and relax while you tone and gently exercise your body. Tai Chi incorporates balance\, breathing\, and slow movements of the entire body while relaxing your mind. Tai Chi will gradually improve your posture\, balance\, flexibility and sense of well being by the continued practice of this Chinese art form. \nNew students can begin the class anytime.  \n \nAbout Carolyn \nCarolyn Wolf is a retired educator\, transplanted from California. For the past 12 years she has been studying and practicing Tai Chi and Qigong with her Sifu\, Estin Kiger\, here in the Rogue Valley. She has a Practice Leader Certificate from the Institute of Integral Qigong and Tai Chi\, and has been leading practice groups for six years. The rest of her life is consumed by gardening\, hiking and exploring beautiful Southern Oregon\, and creating one of a kind scrap quilts and fiber art. \n \nParticipant Requirements 8.27.2021
URL:https://jacksonvillecottages.com/event/tai-chi-with-carolyn-26/
END:VEVENT
BEGIN:VEVENT
DTSTART;TZID=America/Los_Angeles:20230110T140000
DTEND;TZID=America/Los_Angeles:20230110T153000
DTSTAMP:20260423T045012
CREATED:20220914T235013Z
LAST-MODIFIED:20230110T193501Z
UID:1336-1673359200-1673364600@jacksonvillecottages.com
SUMMARY:CT - Jville Shut Up & Write
DESCRIPTION:This program is sponsored by the Jacksonville Commmunity Center(JCC). JCC is a charitable 501(c)(3) non-profit organization. \nJacksonville Shut Up & Write \nJCC Cottage \nTuesdays \n10/4\, 10/11\, 10/18\, & 10/25 \n2:00 pm – 3:30 pm \n$5 Suggested Donation(scholarships available) \nPre-registration required.  \nhttps://jacksonvillecommunitycenter.org/eventer/jacksonville-shut-up-write-10-2022/edate/ \nDescription \nJacksonville is a community of writers! Schedule weekly time to write in the company of people who take writing seriously. Ours is the local chapter of an international non-profit called ‘Shut Up & Write’ which supports the advancement of writing of any kind to become more articulate and more creative. \n \nPresenter: Mike Bowman \nMike Bowman came to Oregon in 2005 after teaching high school in California for 10 years. While teaching reading for RCC\, he created and managed the education program for a local non-profit until coming to RVTD as Travel Trainer in 2011.
URL:https://jacksonvillecottages.com/event/ct-jville-shut-up-write-15/
END:VEVENT
BEGIN:VEVENT
DTSTART;TZID=America/Los_Angeles:20230112T100000
DTEND;TZID=America/Los_Angeles:20230112T110000
DTSTAMP:20260423T045012
CREATED:20220708T172637Z
LAST-MODIFIED:20220913T234921Z
UID:192-1673517600-1673521200@jacksonvillecottages.com
SUMMARY:Tai Chi with Carolyn
DESCRIPTION:This program is sponsored by the Jacksonville Commmunity Center(JCC). JCC is a charitable 501(c)(3) non-profit organization. \nIndoor Location: Great Room \nOutdoor Location: Parking lot near the Jacksonville Cemetery entrance; Enter on West D St. \nThursdays (11/4\, 11/11\, 11/18\, (11/25 OFF) 12/2\, 12/9\, 12/16)) \n10:00 am – 11:00 am   \n$5 Fee (scholarships available) \nRegistration is strongly recommended.  \nPlease pre-register for each class\, as the location will be communicated via email at least an hour before class starts. \n \nhttps://jacksonvillecommunitycenter.org/eventer/tai-chi-with-carolyn-2/  \n \nPlease arrive 5-10 minutes early to fill out the necessary paperwork. \n \nPlease be advised: If a class needs to be cancelled or changed in some way\, registrants will receive an email at least an hour before class. Please check your email prior to attending our classes. \n \nPractice Tai Chi and relax while you tone and gently exercise your body. Tai Chi incorporates balance\, breathing\, and slow movements of the entire body while relaxing your mind. Tai Chi will gradually improve your posture\, balance\, flexibility and sense of well being by the continued practice of this Chinese art form. \nNew students can begin the class anytime.  \n \nAbout Carolyn \nCarolyn Wolf is a retired educator\, transplanted from California. For the past 12 years she has been studying and practicing Tai Chi and Qigong with her Sifu\, Estin Kiger\, here in the Rogue Valley. She has a Practice Leader Certificate from the Institute of Integral Qigong and Tai Chi\, and has been leading practice groups for six years. The rest of her life is consumed by gardening\, hiking and exploring beautiful Southern Oregon\, and creating one of a kind scrap quilts and fiber art. \n \nParticipant Requirements 8.27.2021
URL:https://jacksonvillecottages.com/event/tai-chi-with-carolyn-27/
END:VEVENT
BEGIN:VEVENT
DTSTART;TZID=America/Los_Angeles:20230117T133000
DTEND;TZID=America/Los_Angeles:20230117T150000
DTSTAMP:20260423T045012
CREATED:20220708T172637Z
LAST-MODIFIED:20230117T201914Z
UID:193-1673962200-1673967600@jacksonvillecottages.com
SUMMARY:CT- Lets Create!
DESCRIPTION:JCC Cottage \n1st and 3rd Tuesdays \nTuesday\, October 5th and 19th \n1:30 pm- 3:00 pm \nDonations appreciated.  \nNo registration required.  \n\nDescription:  \nBring a project from home (knitting\, crocheting\, wreath making\, etc)  to work on while chatting \nwith neighbors\, learning new skills\, and making new friends! \n  \nParticipant Requirements 8.27.2021
URL:https://jacksonvillecottages.com/event/ct-lets-create-13/
END:VEVENT
BEGIN:VEVENT
DTSTART;TZID=America/Los_Angeles:20230117T140000
DTEND;TZID=America/Los_Angeles:20230117T153000
DTSTAMP:20260423T045012
CREATED:20220914T235014Z
LAST-MODIFIED:20230117T201914Z
UID:1337-1673964000-1673969400@jacksonvillecottages.com
SUMMARY:CT - Jville Shut Up & Write
DESCRIPTION:This program is sponsored by the Jacksonville Commmunity Center(JCC). JCC is a charitable 501(c)(3) non-profit organization. \nJacksonville Shut Up & Write \nJCC Cottage \nTuesdays \n10/4\, 10/11\, 10/18\, & 10/25 \n2:00 pm – 3:30 pm \n$5 Suggested Donation(scholarships available) \nPre-registration required.  \nhttps://jacksonvillecommunitycenter.org/eventer/jacksonville-shut-up-write-10-2022/edate/ \nDescription \nJacksonville is a community of writers! Schedule weekly time to write in the company of people who take writing seriously. Ours is the local chapter of an international non-profit called ‘Shut Up & Write’ which supports the advancement of writing of any kind to become more articulate and more creative. \n \nPresenter: Mike Bowman \nMike Bowman came to Oregon in 2005 after teaching high school in California for 10 years. While teaching reading for RCC\, he created and managed the education program for a local non-profit until coming to RVTD as Travel Trainer in 2011.
URL:https://jacksonvillecottages.com/event/ct-jville-shut-up-write-16/
END:VEVENT
BEGIN:VEVENT
DTSTART;TZID=America/Los_Angeles:20230119T100000
DTEND;TZID=America/Los_Angeles:20230119T110000
DTSTAMP:20260423T045012
CREATED:20220708T172637Z
LAST-MODIFIED:20220913T234922Z
UID:194-1674122400-1674126000@jacksonvillecottages.com
SUMMARY:Tai Chi with Carolyn
DESCRIPTION:This program is sponsored by the Jacksonville Commmunity Center(JCC). JCC is a charitable 501(c)(3) non-profit organization. \nIndoor Location: Great Room \nOutdoor Location: Parking lot near the Jacksonville Cemetery entrance; Enter on West D St. \nThursdays (11/4\, 11/11\, 11/18\, (11/25 OFF) 12/2\, 12/9\, 12/16)) \n10:00 am – 11:00 am   \n$5 Fee (scholarships available) \nRegistration is strongly recommended.  \nPlease pre-register for each class\, as the location will be communicated via email at least an hour before class starts. \n \nhttps://jacksonvillecommunitycenter.org/eventer/tai-chi-with-carolyn-2/  \n \nPlease arrive 5-10 minutes early to fill out the necessary paperwork. \n \nPlease be advised: If a class needs to be cancelled or changed in some way\, registrants will receive an email at least an hour before class. Please check your email prior to attending our classes. \n \nPractice Tai Chi and relax while you tone and gently exercise your body. Tai Chi incorporates balance\, breathing\, and slow movements of the entire body while relaxing your mind. Tai Chi will gradually improve your posture\, balance\, flexibility and sense of well being by the continued practice of this Chinese art form. \nNew students can begin the class anytime.  \n \nAbout Carolyn \nCarolyn Wolf is a retired educator\, transplanted from California. For the past 12 years she has been studying and practicing Tai Chi and Qigong with her Sifu\, Estin Kiger\, here in the Rogue Valley. She has a Practice Leader Certificate from the Institute of Integral Qigong and Tai Chi\, and has been leading practice groups for six years. The rest of her life is consumed by gardening\, hiking and exploring beautiful Southern Oregon\, and creating one of a kind scrap quilts and fiber art. \n \nParticipant Requirements 8.27.2021
URL:https://jacksonvillecottages.com/event/tai-chi-with-carolyn-28/
END:VEVENT
BEGIN:VEVENT
DTSTART;TZID=America/Los_Angeles:20230119T173000
DTEND;TZID=America/Los_Angeles:20230119T190000
DTSTAMP:20260423T045012
CREATED:20221129T190416Z
LAST-MODIFIED:20230119T203612Z
UID:1865-1674149400-1674154800@jacksonvillecottages.com
SUMMARY:Solarize Rogue: Solar Power for Jacksonville Residents
DESCRIPTION:Think you can’t gosolar? Think again! Join us on Thursday\, January 19\, to find out how you canscore huge savings from solar energy\, even if you cannot install panels on yourown home.  \nNot everyone can install solar panels on theirroof. Some roofs have the wrong orientation\, some roofs are old and in need ofrepair so cannot support the panels. Meanwhile\, some families live in apartmentbuildings or rent their homes and cannot install panels\, even if they areinterested. \nBut there is asolution! It’s called Community Solar. \nThe idea is simple: join with other families tobuild a large solar array at a convenient spot\, not too far from a utilitysubstation. It doesn’t need to be near your home; it just needs to be withinyour utility’s service territory (Pacific Power for us). The solar array pumpselectricity into the grid\, and the utility company pays you for your sharethrough a credit on your monthly bill. You’ve gone solar! \nSolarize Rogue is a local non-profit that hasperfected this approach. With its partner\, the Oregon Clean Power Co-op\,Solarize Rogue has completed a Community Solar project featuring panelsinstalled on the roof of the Oregon Shakespeare Festival Production Building inTalent. This project generates 141 kilowatts and powers 16 Rogue Valley homes\,including discounted service to 3 low-income families.  \nTheir next project will be located in Chiloquin andwill again serve the Pacific Power utility area. Thus\, anyone who is served byPacific Power will be eligible to invest in the new project and reap thebenefits. \nSouthern Oregon Climate Action Now’s Jacksonville Climate Action Team ispartnering with Solarize Rogue to bring information about this opportunity toJacksonville and the Applegate Valley. Ray Sanchez-Pescador is President ofSolarize Rogue and a major driving force behind the first Certified project inPacific Power territory and the first “Participant-Owned” project in the State.Ray will lead a discussion of how Jacksonville and Applegate Valley residentscan benefit from this project. The public meeting will be held on January19\, 5:30-7pm\, at Jacksonville Public Library\, 340 West C Street. We hope tosee you there!
URL:https://jacksonvillecottages.com/event/solarize-rogue-solar-power-for-jacksonville-residents/
LOCATION:Jacksonville Library\, 340 W C St\, Jacksonville\, OR 97530\, USA
END:VEVENT
BEGIN:VEVENT
DTSTART;TZID=America/Los_Angeles:20230124T140000
DTEND;TZID=America/Los_Angeles:20230124T153000
DTSTAMP:20260423T045013
CREATED:20220914T235014Z
LAST-MODIFIED:20230124T203414Z
UID:1338-1674568800-1674574200@jacksonvillecottages.com
SUMMARY:CT - Jville Shut Up & Write
DESCRIPTION:This program is sponsored by the Jacksonville Commmunity Center(JCC). JCC is a charitable 501(c)(3) non-profit organization. \nJacksonville Shut Up & Write \nJCC Cottage \nTuesdays \n10/4\, 10/11\, 10/18\, & 10/25 \n2:00 pm – 3:30 pm \n$5 Suggested Donation(scholarships available) \nPre-registration required.  \nhttps://jacksonvillecommunitycenter.org/eventer/jacksonville-shut-up-write-10-2022/edate/ \nDescription \nJacksonville is a community of writers! Schedule weekly time to write in the company of people who take writing seriously. Ours is the local chapter of an international non-profit called ‘Shut Up & Write’ which supports the advancement of writing of any kind to become more articulate and more creative. \n \nPresenter: Mike Bowman \nMike Bowman came to Oregon in 2005 after teaching high school in California for 10 years. While teaching reading for RCC\, he created and managed the education program for a local non-profit until coming to RVTD as Travel Trainer in 2011.
URL:https://jacksonvillecottages.com/event/ct-jville-shut-up-write-17/
END:VEVENT
BEGIN:VEVENT
DTSTART;TZID=America/Los_Angeles:20230126T100000
DTEND;TZID=America/Los_Angeles:20230126T110000
DTSTAMP:20260423T045013
CREATED:20220708T172637Z
LAST-MODIFIED:20220913T234922Z
UID:195-1674727200-1674730800@jacksonvillecottages.com
SUMMARY:Tai Chi with Carolyn
DESCRIPTION:This program is sponsored by the Jacksonville Commmunity Center(JCC). JCC is a charitable 501(c)(3) non-profit organization. \nIndoor Location: Great Room \nOutdoor Location: Parking lot near the Jacksonville Cemetery entrance; Enter on West D St. \nThursdays (11/4\, 11/11\, 11/18\, (11/25 OFF) 12/2\, 12/9\, 12/16)) \n10:00 am – 11:00 am   \n$5 Fee (scholarships available) \nRegistration is strongly recommended.  \nPlease pre-register for each class\, as the location will be communicated via email at least an hour before class starts. \n \nhttps://jacksonvillecommunitycenter.org/eventer/tai-chi-with-carolyn-2/  \n \nPlease arrive 5-10 minutes early to fill out the necessary paperwork. \n \nPlease be advised: If a class needs to be cancelled or changed in some way\, registrants will receive an email at least an hour before class. Please check your email prior to attending our classes. \n \nPractice Tai Chi and relax while you tone and gently exercise your body. Tai Chi incorporates balance\, breathing\, and slow movements of the entire body while relaxing your mind. Tai Chi will gradually improve your posture\, balance\, flexibility and sense of well being by the continued practice of this Chinese art form. \nNew students can begin the class anytime.  \n \nAbout Carolyn \nCarolyn Wolf is a retired educator\, transplanted from California. For the past 12 years she has been studying and practicing Tai Chi and Qigong with her Sifu\, Estin Kiger\, here in the Rogue Valley. She has a Practice Leader Certificate from the Institute of Integral Qigong and Tai Chi\, and has been leading practice groups for six years. The rest of her life is consumed by gardening\, hiking and exploring beautiful Southern Oregon\, and creating one of a kind scrap quilts and fiber art. \n \nParticipant Requirements 8.27.2021
URL:https://jacksonvillecottages.com/event/tai-chi-with-carolyn-29/
END:VEVENT
BEGIN:VEVENT
DTSTART;TZID=America/Los_Angeles:20230131T140000
DTEND;TZID=America/Los_Angeles:20230131T153000
DTSTAMP:20260423T045013
CREATED:20220914T235014Z
LAST-MODIFIED:20230131T210416Z
UID:1339-1675173600-1675179000@jacksonvillecottages.com
SUMMARY:CT - Jville Shut Up & Write
DESCRIPTION:This program is sponsored by the Jacksonville Commmunity Center(JCC). JCC is a charitable 501(c)(3) non-profit organization. \nJacksonville Shut Up & Write \nJCC Cottage \nTuesdays \n10/4\, 10/11\, 10/18\, & 10/25 \n2:00 pm – 3:30 pm \n$5 Suggested Donation(scholarships available) \nPre-registration required.  \nhttps://jacksonvillecommunitycenter.org/eventer/jacksonville-shut-up-write-10-2022/edate/ \nDescription \nJacksonville is a community of writers! Schedule weekly time to write in the company of people who take writing seriously. Ours is the local chapter of an international non-profit called ‘Shut Up & Write’ which supports the advancement of writing of any kind to become more articulate and more creative. \n \nPresenter: Mike Bowman \nMike Bowman came to Oregon in 2005 after teaching high school in California for 10 years. While teaching reading for RCC\, he created and managed the education program for a local non-profit until coming to RVTD as Travel Trainer in 2011.
URL:https://jacksonvillecottages.com/event/ct-jville-shut-up-write-18/
END:VEVENT
BEGIN:VEVENT
DTSTART;TZID=America/Los_Angeles:20230131T180000
DTEND;TZID=America/Los_Angeles:20230131T190000
DTSTAMP:20260423T045013
CREATED:20230119T203610Z
LAST-MODIFIED:20230131T210416Z
UID:1966-1675188000-1675191600@jacksonvillecottages.com
SUMMARY:SOCAN Hosts ZOOM meeting with Senator Jeff Merkley
DESCRIPTION:Despite holding a bare minimum of control in both chambers\, during the last Congress Democrats managed to pass the Inflation Reduction Act\, the most ambitious legislation targeting the climate crisis ever signed into law.  However\, as we enter a two-year period with Republican climate deniers in charge of the House\, we now face the question of how we can continue and expand upon this climate action at the federal level. Oregon’s U.S. Senator Jeff Merkley will join an upcoming discussion to highlight continued opportunities for federal action\, particularly from the executive branch\, including implementing the legislation passed last Congress. \nAt our January monthly public general meeting\, on Tuesday January 31st at 6:00pm\, Southern Oregon Climate Action Now will host Oregon Senator Merkley to discuss: Expanding U.S. Climate Ambition in 2023. \nThere is no charge for joining the ZOOM meeting\, but participants should register at the link on the SOCAN calendar event: https://socan.eco
URL:https://jacksonvillecottages.com/event/socan-hosts-zoom-meeting-with-senator-jeff-merkley/
END:VEVENT
END:VCALENDAR